BEGIN:VCALENDAR
VERSION:2.0
PRODID:-//eventon.com NONSGML v1.0//EN
CALSCALE:GREGORIAN
METHOD:PUBLISH
BEGIN:VEVENT
UID:69e4d006cf44a
DTSTAMP:20260419T125222Z
DTSTART:20251009T070000Z
DTEND:20251009T083000Z
LOCATION:https://www.lyyti.fi/reg/Vastuullinen_sopiminen_5142
SUMMARY:Juridiikkastudio: Vastuullinen sopiminen
DESCRIPTION:Yritysvastuuta koskevan huolellisuusvelvoitteen merkitys kasvaa
 \,  ja sopimukset ovat keskeinen vÃ¤line riskien hallinnassa sekÃ¤ kestÃ¤vÃ
 ¤n liiketoiminnan varmistamisessa yritysten arvoketjuissa.&nbsp; TÃ¤ssÃ¤ FI
 BSin ja Yritysvastuuoikeuden yhdistyksen webinaarissa kuulet: MitenÂ vastuu
 llinen sopiminenÂ tukee yrityksen huolellisuusvelvoitteen tÃ¤yttÃ¤mistÃ¤ ja
  riskien hallintaa arvoketjussa KÃ¤ytÃ¤nnÃ¶n esimerkkejÃ¤ vastuullisuuslaus
 ekkeiden sisÃ¤llyttÃ¤miseen sopimuksiin eri toimialoilla Ajankohtaiset sÃ¤Ã
 ¤ntelymuutokset (CSDDD\,  UNGP) ja niiden vaikutus sopimusehtoihin ja[..]\n
 https://yritysvastuuoikeus.fi/events/juridiikkastudio-vastuullinen-sopimine
 n/var/event_access
URL:https://yritysvastuuoikeus.fi/events/juridiikkastudio-vastuullinen-sopiminen/var/event_access
END:VEVENT
END:VCALENDAR