BEGIN:VCALENDAR
VERSION:2.0
PRODID:-//eventon.com NONSGML v1.0//EN
CALSCALE:GREGORIAN
METHOD:PUBLISH
BEGIN:VEVENT
UID:69eb9e5251f08
DTSTAMP:20260424T164610Z
DTSTART:20220324T133000Z
DTEND:20220324T150000Z
LOCATION:https://us02web.zoom.us/meeting/register/tZIofuGsrz8qGdNR8oXMlCrwp47jEmDZKze4
SUMMARY:Yritysvastuulaki tulee - Mutta minkÃ¤lainen?
DESCRIPTION:Komissio julkaisi 23. helmikuuta ehdotuksen direktiiviksi yrity
 sten kestÃ¤vÃ¤Ã¤ toimintaa koskevasta huolellisuusvelvoitteesta. Esitys on 
 kattava ja sisÃ¤ltÃ¤Ã¤ lukuisia avauksia tulevan yritysvastuulain keskeisis
 tÃ¤ sisÃ¤llÃ¶istÃ¤. TÃ¤mÃ¤n lisÃ¤ksi TyÃ¶- ja elinkeinoministeriÃ¶n asettam
 a yritysvastuusÃ¤Ã¤ntelyn taustaryhmÃ¤ on valmistellut arviomuistion\,  jok
 a toimii osaltaan pohjana kansalliselle keskustelulle Suomen ja EU-tason sÃ
 ¤Ã¤ntelystÃ¤. Ministeri Haatainen on lausunut\,  ettÃ¤ hÃ¤n tulee[..]\nhttp
 s://yritysvastuuoikeus.fi/events/yritysvastuulaki-tulee-mutta-minkalainen/v
 ar/event_access
URL:https://yritysvastuuoikeus.fi/events/yritysvastuulaki-tulee-mutta-minkalainen/var/event_access
END:VEVENT
END:VCALENDAR